BEGIN:VCALENDAR
VERSION:2.0
PRODID:-//iMA sports - ECPv6.15.20//NONSGML v1.0//EN
CALSCALE:GREGORIAN
METHOD:PUBLISH
X-ORIGINAL-URL:https://imasports.jp
X-WR-CALDESC:iMA sports のイベント
REFRESH-INTERVAL;VALUE=DURATION:PT1H
X-Robots-Tag:noindex
X-PUBLISHED-TTL:PT1H
BEGIN:VTIMEZONE
TZID:Asia/Tokyo
BEGIN:STANDARD
TZOFFSETFROM:+0900
TZOFFSETTO:+0900
TZNAME:JST
DTSTART:20240101T000000
END:STANDARD
END:VTIMEZONE
BEGIN:VEVENT
DTSTART;TZID=Asia/Tokyo:20251122T083000
DTEND;TZID=Asia/Tokyo:20251122T123000
DTSTAMP:20260423T193019
CREATED:20251103T005227Z
LAST-MODIFIED:20251103T005227Z
UID:2021-1763800200-1763814600@imasports.jp
SUMMARY:11月22日(土)トライアルマッチ
DESCRIPTION:先日ご案内したトライアルマッチが決定しました。下記日程にて行います。 \n\n\n\n日付：11月22日(土) 場所：龍北サッカー場 相手：愛知フットボールクラブ 時間：8:15集合/9:30開始 試合：4×30分 終了：12:15（予定） \n\n\n\n＊一般の方で見学・参加をご希望の方は、人環大サッカー部LINE公式アカウントからお問合せください。
URL:https://imasports.jp/event/11%e6%9c%8822%e6%97%a5%e5%9c%9f%e3%83%88%e3%83%a9%e3%82%a4%e3%82%a2%e3%83%ab%e3%83%9e%e3%83%83%e3%83%81/
LOCATION:龍北総合運動場サッカー場\, 岡崎市\, 愛知県\, 444-3174\, Japan
CATEGORIES:人環大岡崎高校
ATTACH;FMTTYPE=image/webp:https://imasports.jp/wp-content/uploads/2025/11/IMG_3421-scaled.webp
ORGANIZER;CN="%E4%BA%BA%E9%96%93%E7%92%B0%E5%A2%83%E5%A4%A7%E5%AD%A6%E9%99%84%E5%B1%9E%E5%B2%A1%E5%B4%8E%E9%AB%98%E7%AD%89%E5%AD%A6%E6%A0%A1":MAILTO:https://www.jinkan-okazaki.ed.jp/contact/
END:VEVENT
BEGIN:VEVENT
DTSTART;TZID=Asia/Tokyo:20251122T090000
DTEND;TZID=Asia/Tokyo:20251122T150000
DTSTAMP:20260423T193019
CREATED:20251023T011618Z
LAST-MODIFIED:20251023T013342Z
UID:2003-1763802000-1763823600@imasports.jp
SUMMARY:サッカー部【トライアルマッチ】
DESCRIPTION:11月22日(土)に龍北総合運動場サッカー場にてトライアルマッチを行います。トライアルマッチとは、来年から始まるサッカー部を体験していただくための試合です。この日の対戦相手はクラブチームを予定しており、試合時間等については現在準備中です。 \n\n\n \nまたトライアルマッチ終了後、人環大岡崎高校サッカー部の最終説明会を開催予定です。なお、説明会へはトライアルマッチに参加していない方もご参加いただけます。 \n\n\n \nトライアルマッチの詳細、ならびに説明会の詳細が決定次第、みなさまへご案内となります。 \n \n＝＝＝＝＝＝＝＝ \n会場：龍北総合運動場サッカー場（人工芝） 時間：9:00-12:00 / 12:00-15:00のいずれかの時間帯主催：人間環境大学附属岡崎高校
URL:https://imasports.jp/event/soccer-club-trial-match/
LOCATION:龍北総合運動場サッカー場\, 岡崎市\, 愛知県\, 444-3174\, Japan
CATEGORIES:人環大岡崎高校
ATTACH;FMTTYPE=image/webp:https://imasports.jp/wp-content/uploads/2025/10/IMG_3363-scaled.webp
ORGANIZER;CN="%E4%BA%BA%E9%96%93%E7%92%B0%E5%A2%83%E5%A4%A7%E5%AD%A6%E9%99%84%E5%B1%9E%E5%B2%A1%E5%B4%8E%E9%AB%98%E7%AD%89%E5%AD%A6%E6%A0%A1":MAILTO:https://www.jinkan-okazaki.ed.jp/contact/
END:VEVENT
BEGIN:VEVENT
DTSTART;TZID=Asia/Tokyo:20260215T150000
DTEND;TZID=Asia/Tokyo:20260215T173000
DTSTAMP:20260423T193019
CREATED:20260323T115459Z
LAST-MODIFIED:20260323T115459Z
UID:2666-1771167600-1771176600@imasports.jp
SUMMARY:2月15日(日)交流試合
DESCRIPTION:交流試合 \n場所：龍北総合運動場サッカー場\n時間：\n①15:10 エストレージャ vs リコプエンテ\n②16:15 人環岡崎 vs リコプエンテ
URL:https://imasports.jp/event/2%e6%9c%8815%e6%97%a5%e6%97%a5%e4%ba%a4%e6%b5%81%e8%a9%a6%e5%90%88/
LOCATION:龍北総合運動場サッカー場\, 岡崎市\, 愛知県\, 444-3174\, Japan
CATEGORIES:人環大岡崎高校
ATTACH;FMTTYPE=image/webp:https://imasports.jp/wp-content/uploads/2025/11/IMG_3421-1-scaled.webp
ORGANIZER;CN="iMA sports":MAILTO:ima.sportsagent@gmail.com
END:VEVENT
BEGIN:VEVENT
DTSTART;TZID=Asia/Tokyo:20260324T090000
DTEND;TZID=Asia/Tokyo:20260324T140000
DTSTAMP:20260423T193019
CREATED:20260323T115321Z
LAST-MODIFIED:20260323T115321Z
UID:2816-1774342800-1774360800@imasports.jp
SUMMARY:3月24日(火)練習試合
DESCRIPTION:刈谷工科高校サッカー部との練習試合を行います。 \n会場：龍北サッカー場\n相手：刈谷工科高校サッカー部\n時間：集合9:00/10:30開始\n試合：2×30分 / 2×30分
URL:https://imasports.jp/event/3%e6%9c%8824%e6%97%a5%e7%81%ab%e7%b7%b4%e7%bf%92%e8%a9%a6%e5%90%88/
LOCATION:龍北総合運動場サッカー場\, 岡崎市\, 愛知県\, 444-3174\, Japan
CATEGORIES:人環大岡崎高校
ATTACH;FMTTYPE=image/webp:https://imasports.jp/wp-content/uploads/2025/11/ryuhoku-scaled.webp
ORGANIZER;CN="iMA sports":MAILTO:ima.sportsagent@gmail.com
END:VEVENT
BEGIN:VEVENT
DTSTART;TZID=Asia/Tokyo:20260326T090000
DTEND;TZID=Asia/Tokyo:20260326T160000
DTSTAMP:20260423T193019
CREATED:20260323T115643Z
LAST-MODIFIED:20260323T115643Z
UID:2821-1774515600-1774540800@imasports.jp
SUMMARY:3月26日(火)練習試合
DESCRIPTION:栄徳高校サッカー部との練習試合を行います。 \n会場：龍北サッカー場\n相手：栄徳高校サッカー部\n時間：集合9:00/10:30開始\n試合：2×30分 / 2×30分
URL:https://imasports.jp/event/3%e6%9c%8826%e6%97%a5%e7%81%ab%e7%b7%b4%e7%bf%92%e8%a9%a6%e5%90%88/
LOCATION:龍北総合運動場サッカー場\, 岡崎市\, 愛知県\, 444-3174\, Japan
CATEGORIES:人環大岡崎高校
ATTACH;FMTTYPE=image/webp:https://imasports.jp/wp-content/uploads/2025/12/IMG_3748-scaled.webp
ORGANIZER;CN="iMA sports":MAILTO:ima.sportsagent@gmail.com
END:VEVENT
END:VCALENDAR